BEGIN:VCALENDAR
VERSION:2.0
PRODID:-//Welcome to Kiltoom and Cam Parish - ECPv6.15.20//NONSGML v1.0//EN
CALSCALE:GREGORIAN
METHOD:PUBLISH
X-WR-CALNAME:Welcome to Kiltoom and Cam Parish
X-ORIGINAL-URL:https://kiltoomandcam.com
X-WR-CALDESC:Events for Welcome to Kiltoom and Cam Parish
REFRESH-INTERVAL;VALUE=DURATION:PT1H
X-Robots-Tag:noindex
X-PUBLISHED-TTL:PT1H
BEGIN:VTIMEZONE
TZID:UTC
BEGIN:STANDARD
TZOFFSETFROM:+0000
TZOFFSETTO:+0000
TZNAME:UTC
DTSTART:20220101T000000
END:STANDARD
END:VTIMEZONE
BEGIN:VEVENT
DTSTART;TZID=UTC:20230323T110000
DTEND;TZID=UTC:20230323T120000
DTSTAMP:20260423T140329
CREATED:20230301T172935Z
LAST-MODIFIED:20230301T173104Z
UID:347-1679569200-1679572800@kiltoomandcam.com
SUMMARY:Ballybay National School Confirmation
DESCRIPTION:The Sacrament of Confirmation will take place in the Church of the Risen Christ\, Kiltoom\, Wednesday 22nd March at 11amfor the Pupils of Ballybay National School .
URL:https://kiltoomandcam.com/event/ballybay-national-school-confirmation/
LOCATION:Church of the Risen Christ\, Kiltoom\, Kiltoom\, Ballybay\, Co. Roscommon
CATEGORIES:Confirmation
ATTACH;FMTTYPE=image/png:https://kiltoomandcam.com/wp-content/uploads/2023/03/Ballynay-NS.png
END:VEVENT
END:VCALENDAR