BEGIN:VCALENDAR
VERSION:2.0
PRODID:-//Welcome to Kiltoom and Cam Parish - ECPv6.15.20//NONSGML v1.0//EN
CALSCALE:GREGORIAN
METHOD:PUBLISH
X-WR-CALNAME:Welcome to Kiltoom and Cam Parish
X-ORIGINAL-URL:https://kiltoomandcam.com
X-WR-CALDESC:Events for Welcome to Kiltoom and Cam Parish
REFRESH-INTERVAL;VALUE=DURATION:PT1H
X-Robots-Tag:noindex
X-PUBLISHED-TTL:PT1H
BEGIN:VTIMEZONE
TZID:UTC
BEGIN:STANDARD
TZOFFSETFROM:+0000
TZOFFSETTO:+0000
TZNAME:UTC
DTSTART:20220101T000000
END:STANDARD
END:VTIMEZONE
BEGIN:VEVENT
DTSTART;TZID=UTC:20230330T193000
DTEND;TZID=UTC:20230330T213000
DTSTAMP:20260422T115815
CREATED:20230301T174819Z
LAST-MODIFIED:20230301T174819Z
UID:369-1680204600-1680211800@kiltoomandcam.com
SUMMARY:Lenten Scripture Initiative
DESCRIPTION:The Parish of Kiltoom & Cam will be hosting a five session Lantern Scripture initiative in co-operation with St. Peter and Paul’s Parish\, Athlone. \nThe sessions will look at some of the writings of Saint Paul. \nThese will be lead by Deacon Willie Gacquin and Una Feeley. \nThey will take place each Thursday in March at 7.30pm in Kiltoom Parish Hall. \nAll welcome.
URL:https://kiltoomandcam.com/event/lenten-scripture-initiative-5/
LOCATION:Kiltoom Parish Hall
CATEGORIES:Lent
ATTACH;FMTTYPE=image/png:https://kiltoomandcam.com/wp-content/uploads/2023/03/lent.png
END:VEVENT
BEGIN:VEVENT
DTSTART;TZID=UTC:20230323T193000
DTEND;TZID=UTC:20230323T213000
DTSTAMP:20260422T115815
CREATED:20230301T174726Z
LAST-MODIFIED:20230301T174726Z
UID:366-1679599800-1679607000@kiltoomandcam.com
SUMMARY:Lenten Scripture Initiative
DESCRIPTION:The Parish of Kiltoom & Cam will be hosting a five session Lantern Scripture initiative in co-operation with St. Peter and Paul’s Parish\, Athlone. \nThe sessions will look at some of the writings of Saint Paul. \nThese will be lead by Deacon Willie Gacquin and Una Feeley. \nThey will take place each Thursday in March at 7.30pm in Kiltoom Parish Hall. \nAll welcome.
URL:https://kiltoomandcam.com/event/lenten-scripture-initiative-4/
LOCATION:Kiltoom Parish Hall
CATEGORIES:Lent
ATTACH;FMTTYPE=image/png:https://kiltoomandcam.com/wp-content/uploads/2023/03/lent.png
END:VEVENT
BEGIN:VEVENT
DTSTART;TZID=UTC:20230316T193000
DTEND;TZID=UTC:20230316T213000
DTSTAMP:20260422T115815
CREATED:20230301T174646Z
LAST-MODIFIED:20230301T174646Z
UID:364-1678995000-1679002200@kiltoomandcam.com
SUMMARY:Lenten Scripture Initiative
DESCRIPTION:The Parish of Kiltoom & Cam will be hosting a five session Lantern Scripture initiative in co-operation with St. Peter and Paul’s Parish\, Athlone. \nThe sessions will look at some of the writings of Saint Paul. \nThese will be lead by Deacon Willie Gacquin and Una Feeley. \nThey will take place each Thursday in March at 7.30pm in Kiltoom Parish Hall. \nAll welcome.
URL:https://kiltoomandcam.com/event/lenten-scripture-initiative-3/
LOCATION:Kiltoom Parish Hall
CATEGORIES:Lent
ATTACH;FMTTYPE=image/png:https://kiltoomandcam.com/wp-content/uploads/2023/03/lent.png
END:VEVENT
BEGIN:VEVENT
DTSTART;TZID=UTC:20230314T193000
DTEND;TZID=UTC:20230320T133000
DTSTAMP:20260422T115815
CREATED:20230314T111452Z
LAST-MODIFIED:20230314T111737Z
UID:415-1678822200-1679319000@kiltoomandcam.com
SUMMARY:Easter Confessions
DESCRIPTION:Easter Confessions 23
URL:https://kiltoomandcam.com/event/easter-confessions/
CATEGORIES:Lent
ATTACH;FMTTYPE=image/png:https://kiltoomandcam.com/wp-content/uploads/2023/03/lent.png
END:VEVENT
BEGIN:VEVENT
DTSTART;TZID=UTC:20230309T193000
DTEND;TZID=UTC:20230309T213000
DTSTAMP:20260422T115815
CREATED:20230301T174604Z
LAST-MODIFIED:20230301T174614Z
UID:361-1678390200-1678397400@kiltoomandcam.com
SUMMARY:Lenten Scripture Initiative
DESCRIPTION:The Parish of Kiltoom & Cam will be hosting a five session Lantern Scripture initiative in co-operation with St. Peter and Paul’s Parish\, Athlone. \nThe sessions will look at some of the writings of Saint Paul. \nThese will be lead by Deacon Willie Gacquin and Una Feeley. \nThey will take place each Thursday in March at 7.30pm in Kiltoom Parish Hall. \nAll welcome.
URL:https://kiltoomandcam.com/event/lenten-scripture-initiative-2/
LOCATION:Kiltoom Parish Hall
CATEGORIES:Lent
ATTACH;FMTTYPE=image/png:https://kiltoomandcam.com/wp-content/uploads/2023/03/lent.png
END:VEVENT
BEGIN:VEVENT
DTSTART;TZID=UTC:20230302T193000
DTEND;TZID=UTC:20230302T213000
DTSTAMP:20260422T115815
CREATED:20230301T174415Z
LAST-MODIFIED:20230301T174747Z
UID:357-1677785400-1677792600@kiltoomandcam.com
SUMMARY:Lenten Scripture Initiative
DESCRIPTION:The Parish of Kiltoom & Cam will be hosting a five session Lantern Scripture initiative in co-operation with St. Peter and Paul’s Parish\, Athlone. \nThe sessions will look at some of the writings of Saint Paul. \nThese will be lead by Deacon Willie Gacquin and Una Feeley. \nThey will take place each Thursday in March at 7.30pm in Kiltoom Parish Hall. \nAll welcome.
URL:https://kiltoomandcam.com/event/lenten-scripture-initiative/
LOCATION:Kiltoom Parish Hall
CATEGORIES:Lent
ATTACH;FMTTYPE=image/png:https://kiltoomandcam.com/wp-content/uploads/2023/03/lent.png
END:VEVENT
END:VCALENDAR